BEGIN:VCALENDAR
VERSION:2.0
PRODID:-//Sabre//Sabre VObject 3.5.3//EN
CALSCALE:GREGORIAN
BEGIN:VTIMEZONE
TZID:Europe/London
BEGIN:STANDARD
TZNAME:GMT
DTSTART:19701025T020000
RRULE:FREQ=YEARLY;BYMONTH=10;BYDAY=-1SU
TZOFFSETFROM:+0100
TZOFFSETTO:+0000
END:STANDARD
BEGIN:DAYLIGHT
TZNAME:BST
DTSTART:19700329T010000
RRULE:FREQ=YEARLY;BYMONTH=3;BYDAY=-1SU
TZOFFSETFROM:+0000
TZOFFSETTO:+0100
END:DAYLIGHT
END:VTIMEZONE
BEGIN:VEVENT
UID:event_316197@buryfriendlyorchestra.uk
DTSTART;TZID=Europe/London:20260707T190000
DTEND;TZID=Europe/London:20260707T213000
SUMMARY:Extended rehearsal
DESCRIPTION:For full event details\, visit: https://www.buryfriendlyorchest
 ra.uk/dbpage.php?pg=view&dbase=events&id=316197
LOCATION:All Saints Church\, Park Road\, Bury St. Edmunds\, IP33 3QW
URL:https://www.buryfriendlyorchestra.uk/dbpage.php?pg=view&dbase=events&id
 =316197
END:VEVENT
END:VCALENDAR
