BEGIN:VCALENDAR
VERSION:2.0
PRODID:-//Sabre//Sabre VObject 3.5.3//EN
CALSCALE:GREGORIAN
BEGIN:VTIMEZONE
TZID:Europe/London
BEGIN:STANDARD
TZNAME:GMT
DTSTART:19701025T020000
RRULE:FREQ=YEARLY;BYMONTH=10;BYDAY=-1SU
TZOFFSETFROM:+0100
TZOFFSETTO:+0000
END:STANDARD
BEGIN:DAYLIGHT
TZNAME:BST
DTSTART:19700329T010000
RRULE:FREQ=YEARLY;BYMONTH=3;BYDAY=-1SU
TZOFFSETFROM:+0000
TZOFFSETTO:+0100
END:DAYLIGHT
END:VTIMEZONE
BEGIN:VEVENT
UID:event_182038@buryfriendlyorchestra.uk
DTSTART;TZID=Europe/London:20241013T100000
DTEND;TZID=Europe/London:20241013T163000
SUMMARY:BFO Playday
DESCRIPTION:We are inviting members of the public to join the Orchestra for
  a Playday on 13th October 2024 at Horringer Village Hall. We will be play
 ing:\n\n	Dvorak&#39\;s 9th Symphony in E minor &quot\;From the New World&q
 uot\;\n\n\nRefreshments - tea\, coffee and biscuits will be included\, ple
 ase bring your own lunch.\n\nPlaces for clarinets and flutes now sold out!
 \n\n\nFor full event details\, visit: https://www.buryfriendlyorchestra.uk
 /playdayoct2024
LOCATION:Horringer Village Hall\, The Street\, Horringer\, IP29 5RU
URL:https://www.buryfriendlyorchestra.uk/playdayoct2024
END:VEVENT
END:VCALENDAR
